BEGIN:VCALENDAR
VERSION:2.0
PRODID:-//rssny.org//NONSGML kigkonsult.se iCalcreator 2.30.10//
CALSCALE:GREGORIAN
METHOD:PUBLISH
UID:cd8c6296-ffb4-4aa3-bf1a-3b7507eb4e74
X-WR-CALDESC:Interested in acting? Want a chance to read through plays and 
 perform? Then come work with a group led by Jeanie Bowers\, an actress who
  has performed extensively on stage and television.
X-WR-RELCALID:3afccd25986dc04460135e9858be6a55
X-WR-TIMEZONE:America/New_York
BEGIN:VTIMEZONE
TZID:America/New_York
BEGIN:STANDARD
TZNAME:EST
DTSTART:20221106T020000
TZOFFSETFROM:-0400
TZOFFSETTO:-0500
RDATE:20231105T020000
RDATE:20241103T020000
END:STANDARD
BEGIN:DAYLIGHT
TZNAME:EDT
DTSTART:20230312T020000
TZOFFSETFROM:-0500
TZOFFSETTO:-0400
RDATE:20240310T020000
RDATE:20250309T020000
END:DAYLIGHT
END:VTIMEZONE
BEGIN:VEVENT
UID:983c17ee-ba84-44dc-b604-d03be4942276
DTSTAMP:20260425T160734Z
DESCRIPTION:Interested in acting? Want a chance to read through plays and p
 erform? Then come work with a group led by Jeanie Bowers\, an actress who 
 has performed extensively on stage and television.
DTSTART;TZID=America/New_York:20230928T130000
DTEND;TZID=America/New_York:20230928T140000
LOCATION:
SUMMARY:Drama Play Readings with Jeanie Bowers
END:VEVENT
END:VCALENDAR
