BEGIN:VCALENDAR
VERSION:2.0
PRODID:-//rssny.org//NONSGML kigkonsult.se iCalcreator 2.30.10//
CALSCALE:GREGORIAN
METHOD:PUBLISH
UID:ff965255-2a87-4235-9594-98173b9e85bb
X-WR-CALDESC:Open to any skill level.
X-WR-RELCALID:f81da3bc77a7aadc6094bf5fd56e2f4b
X-WR-TIMEZONE:America/New_York
BEGIN:VTIMEZONE
TZID:America/New_York
BEGIN:STANDARD
TZNAME:EST
DTSTART:20221106T020000
TZOFFSETFROM:-0400
TZOFFSETTO:-0500
RDATE:20231105T020000
RDATE:20241103T020000
END:STANDARD
BEGIN:DAYLIGHT
TZNAME:EDT
DTSTART:20230312T020000
TZOFFSETFROM:-0500
TZOFFSETTO:-0400
RDATE:20240310T020000
RDATE:20250309T020000
END:DAYLIGHT
END:VTIMEZONE
BEGIN:VEVENT
UID:162bbc7b-65c8-4bb3-b31c-b9f17a12b445
DTSTAMP:20260425T160332Z
DESCRIPTION:Open to any skill level.
DTSTART;TZID=America/New_York:20230927T130000
DTEND;TZID=America/New_York:20230927T150000
LOCATION:
SUMMARY:IN PERSON Mahjongg
END:VEVENT
END:VCALENDAR
