BEGIN:VCALENDAR
VERSION:2.0
PRODID:-//rssny.org//NONSGML kigkonsult.se iCalcreator 2.30.10//
CALSCALE:GREGORIAN
METHOD:PUBLISH
UID:5633ce4e-6199-445a-9183-683ee813c5ad
X-WR-CALDESC:This class is in the center.\nLevel: Beginner\n\nIn this class
  you will learn how to gain a clear and approachable grasp of what Artific
 al intelligence is\, how it works\, and its significance in our modern wor
 ld. You will gain  practical experience by interacting with AI-powered dev
 ices\, such as Chatgpt. \n\nThe session is led by Tabitha Rosa\, the RSS T
 ech Specialist and Virtual Programs Coordinator.
X-WR-RELCALID:326d74d6a280fb1a17c31475685c6741
X-WR-TIMEZONE:America/New_York
BEGIN:VTIMEZONE
TZID:America/New_York
BEGIN:STANDARD
TZNAME:EST
DTSTART:20221106T020000
TZOFFSETFROM:-0400
TZOFFSETTO:-0500
RDATE:20231105T020000
RDATE:20241103T020000
END:STANDARD
BEGIN:DAYLIGHT
TZNAME:EDT
DTSTART:20230312T020000
TZOFFSETFROM:-0500
TZOFFSETTO:-0400
RDATE:20240310T020000
RDATE:20250309T020000
END:DAYLIGHT
END:VTIMEZONE
BEGIN:VEVENT
UID:d1177f13-f731-4686-8bfe-3060a9ee488f
DTSTAMP:20260425T160445Z
DESCRIPTION:This class is in the center.\nLevel: Beginner\n\nIn this class 
 you will learn how to gain a clear and approachable grasp of what Artifica
 l intelligence is\, how it works\, and its significance in our modern worl
 d. You will gain  practical experience by interacting with AI-powered devi
 ces\, such as Chatgpt. \n\nThe session is led by Tabitha Rosa\, the RSS Te
 ch Specialist and Virtual Programs Coordinator.
DTSTART;TZID=America/New_York:20230926T110000
DTEND;TZID=America/New_York:20230926T120000
LOCATION:
SUMMARY:Tech How-To's: Introduction to AI ( IN CENTER)
END:VEVENT
END:VCALENDAR
