BEGIN:VCALENDAR
VERSION:2.0
PRODID:-//rssny.org//NONSGML kigkonsult.se iCalcreator 2.30.10//
CALSCALE:GREGORIAN
METHOD:PUBLISH
UID:21cbc7aa-a7f0-4704-8639-e987ba06fdb5
X-WR-CALDESC:Open to any skill level.
X-WR-RELCALID:b7da33fccfcea64503a4d8a25bcb2be6
X-WR-TIMEZONE:America/New_York
BEGIN:VTIMEZONE
TZID:America/New_York
BEGIN:STANDARD
TZNAME:EST
DTSTART:20221106T020000
TZOFFSETFROM:-0400
TZOFFSETTO:-0500
RDATE:20231105T020000
RDATE:20241103T020000
END:STANDARD
BEGIN:DAYLIGHT
TZNAME:EDT
DTSTART:20230312T020000
TZOFFSETFROM:-0500
TZOFFSETTO:-0400
RDATE:20240310T020000
RDATE:20250309T020000
END:DAYLIGHT
END:VTIMEZONE
BEGIN:VEVENT
UID:4f89cc77-33ff-49de-b937-25ab2028a8d1
DTSTAMP:20260425T160302Z
DESCRIPTION:Open to any skill level.
DTSTART;TZID=America/New_York:20230925T130000
DTEND;TZID=America/New_York:20230925T150000
LOCATION:
SUMMARY:IN PERSON Mahjongg
END:VEVENT
END:VCALENDAR
