BEGIN:VCALENDAR
VERSION:2.0
PRODID:-//rssny.org//NONSGML kigkonsult.se iCalcreator 2.30.10//
CALSCALE:GREGORIAN
METHOD:PUBLISH
UID:52a888e2-265a-48f9-9264-8416f16a8150
X-WR-CALDESC:This writing group is for anyone who likes to write\, likes to
  share\, and enjoys creating both memoir and fictional writing.  Every wee
 k I give a prompt to focus on\, and the following week everyone has a chan
 ce to share what he/she has written.  There is time\, then\, to comment by
  picking a phrase or sentence that stood out for the listener as exception
 al or reminiscent.\n\nIf you are interested in joining send an email to in
 fo@rssny.org
X-WR-RELCALID:682015649dc8a18d25f21f6d3b633149
X-WR-TIMEZONE:America/New_York
BEGIN:VTIMEZONE
TZID:America/New_York
BEGIN:STANDARD
TZNAME:EST
DTSTART:20221106T020000
TZOFFSETFROM:-0400
TZOFFSETTO:-0500
RDATE:20231105T020000
RDATE:20241103T020000
END:STANDARD
BEGIN:DAYLIGHT
TZNAME:EDT
DTSTART:20230312T020000
TZOFFSETFROM:-0500
TZOFFSETTO:-0400
RDATE:20240310T020000
RDATE:20250309T020000
END:DAYLIGHT
END:VTIMEZONE
BEGIN:VEVENT
UID:21d326f1-0aa4-427f-911f-f21f903c4119
DTSTAMP:20260425T160023Z
DESCRIPTION:This writing group is for anyone who likes to write\, likes to 
 share\, and enjoys creating both memoir and fictional writing.  Every week
  I give a prompt to focus on\, and the following week everyone has a chanc
 e to share what he/she has written.  There is time\, then\, to comment by 
 picking a phrase or sentence that stood out for the listener as exceptiona
 l or reminiscent.\n\nIf you are interested in joining send an email to inf
 o@rssny.org
DTSTART;TZID=America/New_York:20230925T123000
DTEND;TZID=America/New_York:20230925T140000
LOCATION:
SUMMARY:Write On! Writing Your Memories
END:VEVENT
END:VCALENDAR
