BEGIN:VCALENDAR
VERSION:2.0
PRODID:-//rssny.org//NONSGML kigkonsult.se iCalcreator 2.30.10//
CALSCALE:GREGORIAN
METHOD:PUBLISH
UID:44dc7908-8318-483a-8720-3748411689b0
X-WR-CALDESC:
X-WR-RELCALID:3dfd6fb76b0a963191f8502b9963c031
X-WR-TIMEZONE:America/New_York
BEGIN:VTIMEZONE
TZID:America/New_York
BEGIN:STANDARD
TZNAME:EST
DTSTART:20221106T020000
TZOFFSETFROM:-0400
TZOFFSETTO:-0500
RDATE:20231105T020000
RDATE:20241103T020000
END:STANDARD
BEGIN:DAYLIGHT
TZNAME:EDT
DTSTART:20230312T020000
TZOFFSETFROM:-0500
TZOFFSETTO:-0400
RDATE:20240310T020000
RDATE:20250309T020000
END:DAYLIGHT
END:VTIMEZONE
BEGIN:VEVENT
UID:03bc002b-efa8-4e51-a48e-62fd875cd33c
DTSTAMP:20260425T155913Z
DESCRIPTION:
DTSTART;TZID=America/New_York:20230922T100000
DTEND;TZID=America/New_York:20230922T113000
LOCATION:
SUMMARY:Get Your Flu Shot!
END:VEVENT
END:VCALENDAR
