BEGIN:VCALENDAR
VERSION:2.0
PRODID:-//rssny.org//NONSGML kigkonsult.se iCalcreator 2.30.10//
CALSCALE:GREGORIAN
METHOD:PUBLISH
UID:6e588530-ab66-4126-96d7-195261d675a2
X-WR-CALDESC:Movie: Barbie\n\nWe are currently full - fill out this form to
  be put on the waitlist - https://rssny.org/class-forms/barbie.html
X-WR-RELCALID:19c338fbe98012a71da6e549c8e646b4
X-WR-TIMEZONE:America/New_York
BEGIN:VTIMEZONE
TZID:America/New_York
BEGIN:STANDARD
TZNAME:EST
DTSTART:20221106T020000
TZOFFSETFROM:-0400
TZOFFSETTO:-0500
RDATE:20231105T020000
RDATE:20241103T020000
END:STANDARD
BEGIN:DAYLIGHT
TZNAME:EDT
DTSTART:20230312T020000
TZOFFSETFROM:-0500
TZOFFSETTO:-0400
RDATE:20240310T020000
RDATE:20250309T020000
END:DAYLIGHT
END:VTIMEZONE
BEGIN:VEVENT
UID:db0ad736-ead6-44cf-bce1-1cc76a7eb2cb
DTSTAMP:20260425T160331Z
DESCRIPTION:Movie: Barbie\n\nWe are currently full - fill out this form to 
 be put on the waitlist - https://rssny.org/class-forms/barbie.html
DTSTART;TZID=America/New_York:20230920T150000
DTEND;TZID=America/New_York:20230920T170000
LOCATION:
SUMMARY:Movie in Center: Barbie
END:VEVENT
END:VCALENDAR
