BEGIN:VCALENDAR
VERSION:2.0
PRODID:-//rssny.org//NONSGML kigkonsult.se iCalcreator 2.30.10//
CALSCALE:GREGORIAN
METHOD:PUBLISH
UID:87d3a8ef-915e-4985-93d0-757d44b92d33
X-WR-CALDESC:Movie: Barbie\n\nWe are currently full - fill out this form to
  be put on the waitlist - https://rssny.org/class-forms/barbie.html
X-WR-RELCALID:f7d4b39438032591c357fef7fca27c6a
X-WR-TIMEZONE:America/New_York
BEGIN:VTIMEZONE
TZID:America/New_York
BEGIN:STANDARD
TZNAME:EST
DTSTART:20221106T020000
TZOFFSETFROM:-0400
TZOFFSETTO:-0500
RDATE:20231105T020000
RDATE:20241103T020000
END:STANDARD
BEGIN:DAYLIGHT
TZNAME:EDT
DTSTART:20230312T020000
TZOFFSETFROM:-0500
TZOFFSETTO:-0400
RDATE:20240310T020000
RDATE:20250309T020000
END:DAYLIGHT
END:VTIMEZONE
BEGIN:VEVENT
UID:429a0296-4934-4cdb-a045-44c265eea36e
DTSTAMP:20260425T160617Z
DESCRIPTION:Movie: Barbie\n\nWe are currently full - fill out this form to 
 be put on the waitlist - https://rssny.org/class-forms/barbie.html
DTSTART;TZID=America/New_York:20230920T180000
DTEND;TZID=America/New_York:20230920T200000
LOCATION:
SUMMARY:Movie in Center: Barbie  (RESERVATIONS REQUIRED)
END:VEVENT
END:VCALENDAR
