BEGIN:VCALENDAR
VERSION:2.0
PRODID:-//rssny.org//NONSGML kigkonsult.se iCalcreator 2.30.10//
CALSCALE:GREGORIAN
METHOD:PUBLISH
UID:e3cc9d8e-07a5-4b43-bbc3-29de2459d61b
X-WR-CALDESC:Movie: Barbie\n\nWe are currently full - fill out this form to
  be put on the waitlist - https://rssny.org/class-forms/barbie.html\n
X-WR-RELCALID:28b228647cf29e53168d14e083fff6a9
X-WR-TIMEZONE:America/New_York
BEGIN:VTIMEZONE
TZID:America/New_York
BEGIN:STANDARD
TZNAME:EST
DTSTART:20221106T020000
TZOFFSETFROM:-0400
TZOFFSETTO:-0500
RDATE:20231105T020000
RDATE:20241103T020000
END:STANDARD
BEGIN:DAYLIGHT
TZNAME:EDT
DTSTART:20230312T020000
TZOFFSETFROM:-0500
TZOFFSETTO:-0400
RDATE:20240310T020000
RDATE:20250309T020000
END:DAYLIGHT
END:VTIMEZONE
BEGIN:VEVENT
UID:0a38201b-a3cd-4fb7-a738-d5120fec293e
DTSTAMP:20260425T160733Z
DESCRIPTION:Movie: Barbie\n\nWe are currently full - fill out this form to 
 be put on the waitlist - https://rssny.org/class-forms/barbie.html\n
DTSTART;TZID=America/New_York:20230920T130000
DTEND;TZID=America/New_York:20230920T150000
LOCATION:
SUMMARY:Movie in Center: Barbie (RESERVATIONS REQUIRED)
END:VEVENT
END:VCALENDAR
