BEGIN:VCALENDAR
VERSION:2.0
PRODID:-//rssny.org//NONSGML kigkonsult.se iCalcreator 2.30.10//
CALSCALE:GREGORIAN
METHOD:PUBLISH
UID:1fd5fc95-7090-49be-95ca-d6ccf5f9bc8c
X-WR-CALDESC:Open to any skill level.
X-WR-RELCALID:4e9df3def776e8dbf5a85c0bedf9cbbd
X-WR-TIMEZONE:America/New_York
BEGIN:VTIMEZONE
TZID:America/New_York
BEGIN:STANDARD
TZNAME:EST
DTSTART:20221106T020000
TZOFFSETFROM:-0400
TZOFFSETTO:-0500
RDATE:20231105T020000
RDATE:20241103T020000
END:STANDARD
BEGIN:DAYLIGHT
TZNAME:EDT
DTSTART:20230312T020000
TZOFFSETFROM:-0500
TZOFFSETTO:-0400
RDATE:20240310T020000
RDATE:20250309T020000
END:DAYLIGHT
END:VTIMEZONE
BEGIN:VEVENT
UID:a2b27163-31be-470c-881a-aae893744f5f
DTSTAMP:20260425T160342Z
DESCRIPTION:Open to any skill level.
DTSTART;TZID=America/New_York:20230918T130000
DTEND;TZID=America/New_York:20230918T150000
LOCATION:
SUMMARY:IN PERSON Mahjongg
END:VEVENT
END:VCALENDAR
