BEGIN:VCALENDAR
VERSION:2.0
PRODID:-//rssny.org//NONSGML kigkonsult.se iCalcreator 2.30.10//
CALSCALE:GREGORIAN
METHOD:PUBLISH
UID:34bdfb55-4cea-4354-a119-068df4f3ad04
X-WR-CALDESC:Learn a variety of art techniques\, including painting and col
 oring as well as a wide range of craft projects ranging from “ memory boxe
 s” to holiday card making. What makes her class unique is the supportive\,
  non-judgmental environment that welcomes beginners and challenges experts
 .
X-WR-RELCALID:22c78de71fc053bbe765c7d942e49638
X-WR-TIMEZONE:America/New_York
BEGIN:VTIMEZONE
TZID:America/New_York
BEGIN:STANDARD
TZNAME:EST
DTSTART:20221106T020000
TZOFFSETFROM:-0400
TZOFFSETTO:-0500
RDATE:20231105T020000
RDATE:20241103T020000
END:STANDARD
BEGIN:DAYLIGHT
TZNAME:EDT
DTSTART:20230312T020000
TZOFFSETFROM:-0500
TZOFFSETTO:-0400
RDATE:20240310T020000
RDATE:20250309T020000
END:DAYLIGHT
END:VTIMEZONE
BEGIN:VEVENT
UID:c68a86dc-bffb-4290-bff7-bfcb47a95f70
DTSTAMP:20260425T160615Z
DESCRIPTION:Learn a variety of art techniques\, including painting and colo
 ring as well as a wide range of craft projects ranging from “ memory boxes
 ” to holiday card making. What makes her class unique is the supportive\, 
 non-judgmental environment that welcomes beginners and challenges experts.
DTSTART;TZID=America/New_York:20230918T110000
DTEND;TZID=America/New_York:20230918T120000
LOCATION:
SUMMARY:Art with Linda - In Center
END:VEVENT
END:VCALENDAR
