BEGIN:VCALENDAR
VERSION:2.0
PRODID:-//rssny.org//NONSGML kigkonsult.se iCalcreator 2.30.10//
CALSCALE:GREGORIAN
METHOD:PUBLISH
UID:b1d6b214-3c96-46aa-83a8-f1dc7a8adb60
X-WR-CALDESC:
X-WR-RELCALID:85272b4adf881de0f33d73caf90ebe8a
X-WR-TIMEZONE:America/New_York
BEGIN:VTIMEZONE
TZID:America/New_York
BEGIN:STANDARD
TZNAME:EST
DTSTART:20221106T020000
TZOFFSETFROM:-0400
TZOFFSETTO:-0500
RDATE:20231105T020000
RDATE:20241103T020000
END:STANDARD
BEGIN:DAYLIGHT
TZNAME:EDT
DTSTART:20230312T020000
TZOFFSETFROM:-0500
TZOFFSETTO:-0400
RDATE:20240310T020000
RDATE:20250309T020000
END:DAYLIGHT
END:VTIMEZONE
BEGIN:VEVENT
UID:519e750b-d7d6-4217-955e-0d167482ba79
DTSTAMP:20260425T160456Z
DESCRIPTION:
DTSTART;TZID=America/New_York:20230914T130000
DTEND;TZID=America/New_York:20230914T140000
LOCATION:
SUMMARY:Ready NY: Seniors & Disability Access with NYC Emergency Management
END:VEVENT
END:VCALENDAR
