BEGIN:VCALENDAR
VERSION:2.0
PRODID:-//rssny.org//NONSGML kigkonsult.se iCalcreator 2.30.10//
CALSCALE:GREGORIAN
METHOD:PUBLISH
UID:348161d3-2a8f-41d4-9439-934c99682e55
X-WR-CALDESC:
X-WR-RELCALID:99693ed35ff50f0cb348a0438e6433cb
X-WR-TIMEZONE:America/New_York
BEGIN:VTIMEZONE
TZID:America/New_York
BEGIN:STANDARD
TZNAME:EST
DTSTART:20221106T020000
TZOFFSETFROM:-0400
TZOFFSETTO:-0500
RDATE:20231105T020000
RDATE:20241103T020000
END:STANDARD
BEGIN:DAYLIGHT
TZNAME:EDT
DTSTART:20230312T020000
TZOFFSETFROM:-0500
TZOFFSETTO:-0400
RDATE:20240310T020000
RDATE:20250309T020000
END:DAYLIGHT
END:VTIMEZONE
BEGIN:VEVENT
UID:ad4672e2-69f8-4ad4-b4cd-9209e38d7372
DTSTAMP:20260425T160456Z
DESCRIPTION:
DTSTART;TZID=America/New_York:20230914T140000
DTEND;TZID=America/New_York:20230914T150000
LOCATION:https://rssny.org/tai-chi-with-bill.html
SUMMARY:Tai Chi with Bill (ONLINE)
END:VEVENT
END:VCALENDAR
