BEGIN:VCALENDAR
VERSION:2.0
PRODID:-//rssny.org//NONSGML kigkonsult.se iCalcreator 2.30.10//
CALSCALE:GREGORIAN
METHOD:PUBLISH
UID:a42e493e-6a55-4086-a6b8-f0d7227bcaf5
X-WR-CALDESC:Join us for breakfast at the Center!
X-WR-RELCALID:edbc3e63c21bb9788551c7fed02cf29c
X-WR-TIMEZONE:America/New_York
BEGIN:VTIMEZONE
TZID:America/New_York
BEGIN:STANDARD
TZNAME:EST
DTSTART:20221106T020000
TZOFFSETFROM:-0400
TZOFFSETTO:-0500
RDATE:20231105T020000
RDATE:20241103T020000
END:STANDARD
BEGIN:DAYLIGHT
TZNAME:EDT
DTSTART:20230312T020000
TZOFFSETFROM:-0500
TZOFFSETTO:-0400
RDATE:20240310T020000
RDATE:20250309T020000
END:DAYLIGHT
END:VTIMEZONE
BEGIN:VEVENT
UID:dfce6ac9-c5b4-4aae-a69c-f26c2b79f214
DTSTAMP:20260425T160447Z
DESCRIPTION:Join us for breakfast at the Center!
DTSTART;TZID=America/New_York:20230913T090000
DTEND;TZID=America/New_York:20230913T100000
LOCATION:
SUMMARY:Breakfast Club (In Center)
END:VEVENT
END:VCALENDAR
