BEGIN:VCALENDAR
VERSION:2.0
PRODID:-//rssny.org//NONSGML kigkonsult.se iCalcreator 2.30.10//
CALSCALE:GREGORIAN
METHOD:PUBLISH
UID:d7d18c33-dfa8-4e13-872e-c780766fde09
X-WR-CALDESC:In celebration of Older Adult Center Month\nDISCOVER YOUR INNE
 R TECHIE!\n\nBesides our regular classes\, we'll have a day devoted to tec
 hnology. Whether you are a newbie to technology\, want to learn more\, or 
 troubleshoot issues come to RSS today - and bring a friend!\n\nTech events
  will include special classes\, online games (including Nintendo Switch!)\
 , presentations on streaming\, and more!\n\n
X-WR-RELCALID:512ff7487ab35a3de339dffdb96fa469
X-WR-TIMEZONE:America/New_York
BEGIN:VTIMEZONE
TZID:America/New_York
BEGIN:STANDARD
TZNAME:EST
DTSTART:20221106T020000
TZOFFSETFROM:-0400
TZOFFSETTO:-0500
RDATE:20231105T020000
RDATE:20241103T020000
END:STANDARD
BEGIN:DAYLIGHT
TZNAME:EDT
DTSTART:20230312T020000
TZOFFSETFROM:-0500
TZOFFSETTO:-0400
RDATE:20240310T020000
RDATE:20250309T020000
END:DAYLIGHT
END:VTIMEZONE
BEGIN:VEVENT
UID:ff7f4a0a-462f-4a73-b5b6-44f1b1a1fed9
DTSTAMP:20260425T160819Z
DESCRIPTION:In celebration of Older Adult Center Month\nDISCOVER YOUR INNER
  TECHIE!\n\nBesides our regular classes\, we'll have a day devoted to tech
 nology. Whether you are a newbie to technology\, want to learn more\, or t
 roubleshoot issues come to RSS today - and bring a friend!\n\nTech events 
 will include special classes\, online games (including Nintendo Switch!)\,
  presentations on streaming\, and more!\n\n
DTSTART;TZID=America/New_York:20230912T000000
DTEND;TZID=America/New_York:20230912T235900
LOCATION:
SUMMARY:Discover Your Inner Techie! (IN CENTER) in Celebration of Older Adu
 lt Center Month!
END:VEVENT
END:VCALENDAR
