BEGIN:VCALENDAR
VERSION:2.0
PRODID:-//rssny.org//NONSGML kigkonsult.se iCalcreator 2.30.10//
CALSCALE:GREGORIAN
METHOD:PUBLISH
UID:30078f23-ae54-44cc-920d-883cf5d168a6
X-WR-CALDESC:
X-WR-RELCALID:8baea77a270ddde59e852ec9e3170777
X-WR-TIMEZONE:America/New_York
BEGIN:VTIMEZONE
TZID:America/New_York
BEGIN:STANDARD
TZNAME:EST
DTSTART:20221106T020000
TZOFFSETFROM:-0400
TZOFFSETTO:-0500
RDATE:20231105T020000
RDATE:20241103T020000
END:STANDARD
BEGIN:DAYLIGHT
TZNAME:EDT
DTSTART:20230312T020000
TZOFFSETFROM:-0500
TZOFFSETTO:-0400
RDATE:20240310T020000
RDATE:20250309T020000
END:DAYLIGHT
END:VTIMEZONE
BEGIN:VEVENT
UID:f192f9b1-901e-416d-97c4-eafba626bdc6
DTSTAMP:20260425T160550Z
DESCRIPTION:
DTSTART;TZID=America/New_York:20230911T140000
DTEND;TZID=America/New_York:20230911T150000
LOCATION:https://rssny.org/tai-chi-with-bill.html
SUMMARY:Tai Chi with Bill (ONLINE)
END:VEVENT
END:VCALENDAR
