BEGIN:VCALENDAR
VERSION:2.0
PRODID:-//rssny.org//NONSGML kigkonsult.se iCalcreator 2.30.10//
CALSCALE:GREGORIAN
METHOD:PUBLISH
UID:43b54b13-f642-4b4c-9e01-4db1b529c057
X-WR-CALDESC:Come and treat yourself to a spa treatment experience! Learn h
 ow to make your own organic hand cream with simple ingredients. Follow tha
 t up with some self hand massage and finish with quiet meditation and Reik
 i
X-WR-RELCALID:50dd90ec30ab2fbc8b9871912bef202a
X-WR-TIMEZONE:America/New_York
BEGIN:VTIMEZONE
TZID:America/New_York
BEGIN:STANDARD
TZNAME:EST
DTSTART:20221106T020000
TZOFFSETFROM:-0400
TZOFFSETTO:-0500
RDATE:20231105T020000
RDATE:20241103T020000
END:STANDARD
BEGIN:DAYLIGHT
TZNAME:EDT
DTSTART:20230312T020000
TZOFFSETFROM:-0500
TZOFFSETTO:-0400
RDATE:20240310T020000
END:DAYLIGHT
END:VTIMEZONE
BEGIN:VEVENT
UID:4863222a-4534-4d12-aa16-ed89a608f56f
DTSTAMP:20260425T160743Z
DESCRIPTION:Come and treat yourself to a spa treatment experience! Learn ho
 w to make your own organic hand cream with simple ingredients. Follow that
  up with some self hand massage and finish with quiet meditation and Reiki
DTSTART;TZID=America/New_York:20230907T110000
DTEND;TZID=America/New_York:20230907T120000
LOCATION:
SUMMARY:Spa Treatments: Hand creams\, hand massage & Reiki (In-Center)
END:VEVENT
END:VCALENDAR
