BEGIN:VCALENDAR
VERSION:2.0
PRODID:-//rssny.org//NONSGML kigkonsult.se iCalcreator 2.30.10//
CALSCALE:GREGORIAN
METHOD:PUBLISH
UID:de419499-6e67-4044-9961-cf5f5856435b
X-WR-CALDESC:
X-WR-RELCALID:642d84e4f83a120e71725a5f64ae3245
X-WR-TIMEZONE:America/New_York
BEGIN:VTIMEZONE
TZID:America/New_York
BEGIN:STANDARD
TZNAME:EST
DTSTART:20221106T020000
TZOFFSETFROM:-0400
TZOFFSETTO:-0500
RDATE:20231105T020000
RDATE:20241103T020000
END:STANDARD
BEGIN:DAYLIGHT
TZNAME:EDT
DTSTART:20230312T020000
TZOFFSETFROM:-0500
TZOFFSETTO:-0400
RDATE:20240310T020000
END:DAYLIGHT
END:VTIMEZONE
BEGIN:VEVENT
UID:5289b265-7756-477e-9390-4f92348e369c
DTSTAMP:20260425T160523Z
DESCRIPTION:
DTSTART;TZID=America/New_York:20230904T000000
DTEND;TZID=America/New_York:20230904T235900
LOCATION:
SUMMARY:CENTER CLOSED (ONLINE & IN CENTER) - LABOR DAY
END:VEVENT
END:VCALENDAR
