BEGIN:VCALENDAR
VERSION:2.0
PRODID:-//rssny.org//NONSGML kigkonsult.se iCalcreator 2.30.10//
CALSCALE:GREGORIAN
METHOD:PUBLISH
UID:5cb660c3-2f6b-42a3-aa17-9eff07474109
X-WR-CALDESC:
X-WR-RELCALID:e0ce979c6e565f1416251baea8679ddd
X-WR-TIMEZONE:America/New_York
BEGIN:VTIMEZONE
TZID:America/New_York
BEGIN:STANDARD
TZNAME:EST
DTSTART:20221106T020000
TZOFFSETFROM:-0400
TZOFFSETTO:-0500
RDATE:20231105T020000
RDATE:20241103T020000
END:STANDARD
BEGIN:DAYLIGHT
TZNAME:EDT
DTSTART:20230312T020000
TZOFFSETFROM:-0500
TZOFFSETTO:-0400
RDATE:20240310T020000
END:DAYLIGHT
END:VTIMEZONE
BEGIN:VEVENT
UID:41d06a60-81a8-40cf-83bf-2fd933156ea5
DTSTAMP:20260425T175644Z
DESCRIPTION:
DTSTART;TZID=America/New_York:20230831T130000
DTEND;TZID=America/New_York:20230831T140000
LOCATION:
SUMMARY:Folk Dancing - IN CENTER
END:VEVENT
END:VCALENDAR
