BEGIN:VCALENDAR
VERSION:2.0
PRODID:-//rssny.org//NONSGML kigkonsult.se iCalcreator 2.30.10//
CALSCALE:GREGORIAN
METHOD:PUBLISH
UID:f3971e05-9139-47da-91ee-c3a44b1c617c
X-WR-CALDESC:Click Here to Register - https://rssny.org/class-forms/concert
 s-in-motion.html
X-WR-RELCALID:4bba4c524e177db501f96ac83ddd1d06
X-WR-TIMEZONE:America/New_York
BEGIN:VTIMEZONE
TZID:America/New_York
BEGIN:STANDARD
TZNAME:EST
DTSTART:20221106T020000
TZOFFSETFROM:-0400
TZOFFSETTO:-0500
RDATE:20231105T020000
RDATE:20241103T020000
END:STANDARD
BEGIN:DAYLIGHT
TZNAME:EDT
DTSTART:20230312T020000
TZOFFSETFROM:-0500
TZOFFSETTO:-0400
RDATE:20240310T020000
END:DAYLIGHT
END:VTIMEZONE
BEGIN:VEVENT
UID:d04d5939-7e07-4f08-afa4-c362cbd5861f
DTSTAMP:20260425T180213Z
DESCRIPTION:Click Here to Register - https://rssny.org/class-forms/concerts
 -in-motion.html
DTSTART;TZID=America/New_York:20230828T120000
DTEND;TZID=America/New_York:20230828T130000
LOCATION:
SUMMARY:Concerts in Motion: Meditative Mondays (Not an RSS Class)
END:VEVENT
END:VCALENDAR
