BEGIN:VCALENDAR
VERSION:2.0
PRODID:-//rssny.org//NONSGML kigkonsult.se iCalcreator 2.30.10//
CALSCALE:GREGORIAN
METHOD:PUBLISH
UID:908ff557-8603-4a57-9a79-c78dddf0c141
X-WR-CALDESC:
X-WR-RELCALID:02e0c82a8333ba2361ee4f9d4d3d776e
X-WR-TIMEZONE:America/New_York
BEGIN:VTIMEZONE
TZID:America/New_York
BEGIN:STANDARD
TZNAME:EST
DTSTART:20221106T020000
TZOFFSETFROM:-0400
TZOFFSETTO:-0500
RDATE:20231105T020000
RDATE:20241103T020000
END:STANDARD
BEGIN:DAYLIGHT
TZNAME:EDT
DTSTART:20230312T020000
TZOFFSETFROM:-0500
TZOFFSETTO:-0400
RDATE:20240310T020000
END:DAYLIGHT
END:VTIMEZONE
BEGIN:VEVENT
UID:bc64dcfd-45d0-4ff7-a0f9-675fee0e76da
DTSTAMP:20260425T180255Z
DESCRIPTION:
DTSTART;TZID=America/New_York:20230824T130000
DTEND;TZID=America/New_York:20230824T140000
LOCATION:No Registration Required
SUMMARY:NO CLASS TODAY! IN PERSON: Crafting with Recyclables with Susan Guz
 man
END:VEVENT
END:VCALENDAR
