BEGIN:VCALENDAR
VERSION:2.0
PRODID:-//rssny.org//NONSGML kigkonsult.se iCalcreator 2.30.10//
CALSCALE:GREGORIAN
METHOD:PUBLISH
UID:c4b10457-9ae0-406c-b6a1-a2649b19e612
X-WR-CALDESC:
X-WR-RELCALID:d42eaac93ec77062b86fbf0cfcafbfec
X-WR-TIMEZONE:America/New_York
BEGIN:VTIMEZONE
TZID:America/New_York
BEGIN:STANDARD
TZNAME:EST
DTSTART:20221106T020000
TZOFFSETFROM:-0400
TZOFFSETTO:-0500
RDATE:20231105T020000
RDATE:20241103T020000
END:STANDARD
BEGIN:DAYLIGHT
TZNAME:EDT
DTSTART:20230312T020000
TZOFFSETFROM:-0500
TZOFFSETTO:-0400
RDATE:20240310T020000
END:DAYLIGHT
END:VTIMEZONE
BEGIN:VEVENT
UID:5a246c2b-46a2-4c6d-b3ff-7906941bb714
DTSTAMP:20260425T175943Z
DESCRIPTION:
DTSTART;TZID=America/New_York:20230824T110000
DTEND;TZID=America/New_York:20230824T120000
LOCATION:
SUMMARY:PLACEHOLDER : TECH How-To's  (Online)
END:VEVENT
END:VCALENDAR
