BEGIN:VCALENDAR
VERSION:2.0
PRODID:-//rssny.org//NONSGML kigkonsult.se iCalcreator 2.30.10//
CALSCALE:GREGORIAN
METHOD:PUBLISH
UID:8f063f16-5a76-4e09-b05e-51e07a576535
X-WR-CALDESC:Calling all beginners - Learn to play the ancient game of mahj
 ong. Have fun and enjoy the company of others.
X-WR-RELCALID:2b0d45dd88b8b959aed7f0ccb228918d
X-WR-TIMEZONE:America/New_York
BEGIN:VTIMEZONE
TZID:America/New_York
BEGIN:STANDARD
TZNAME:EST
DTSTART:20221106T020000
TZOFFSETFROM:-0400
TZOFFSETTO:-0500
RDATE:20231105T020000
RDATE:20241103T020000
END:STANDARD
BEGIN:DAYLIGHT
TZNAME:EDT
DTSTART:20230312T020000
TZOFFSETFROM:-0500
TZOFFSETTO:-0400
RDATE:20240310T020000
END:DAYLIGHT
END:VTIMEZONE
BEGIN:VEVENT
UID:7cc94400-ce99-441d-9244-8071106e592b
DTSTAMP:20260425T180055Z
DESCRIPTION:Calling all beginners - Learn to play the ancient game of mahjo
 ng. Have fun and enjoy the company of others.
DTSTART;TZID=America/New_York:20230823T130000
DTEND;TZID=America/New_York:20230823T140000
LOCATION:
SUMMARY:Learn Mahjong with Ariana (In Center)
END:VEVENT
END:VCALENDAR
