BEGIN:VCALENDAR
VERSION:2.0
PRODID:-//rssny.org//NONSGML kigkonsult.se iCalcreator 2.30.10//
CALSCALE:GREGORIAN
METHOD:PUBLISH
UID:8d21270e-1ddd-4e7d-9b9e-5ecaaea7016d
X-WR-CALDESC:Click Here to Register - https://rssny.org/class-forms/concert
 s-in-motion.html
X-WR-RELCALID:6fd940b7224f39493ed1a3cce2d8e154
X-WR-TIMEZONE:America/New_York
BEGIN:VTIMEZONE
TZID:America/New_York
BEGIN:STANDARD
TZNAME:EST
DTSTART:20221106T020000
TZOFFSETFROM:-0400
TZOFFSETTO:-0500
RDATE:20231105T020000
RDATE:20241103T020000
END:STANDARD
BEGIN:DAYLIGHT
TZNAME:EDT
DTSTART:20230312T020000
TZOFFSETFROM:-0500
TZOFFSETTO:-0400
RDATE:20240310T020000
END:DAYLIGHT
END:VTIMEZONE
BEGIN:VEVENT
UID:e388900f-770a-4ee6-b983-4360b8a752c0
DTSTAMP:20260425T180127Z
DESCRIPTION:Click Here to Register - https://rssny.org/class-forms/concerts
 -in-motion.html
DTSTART;TZID=America/New_York:20230821T120000
DTEND;TZID=America/New_York:20230821T130000
LOCATION:
SUMMARY:Concerts in Motion: Meditative Mondays (Not an RSS Class)
END:VEVENT
END:VCALENDAR
