BEGIN:VCALENDAR
VERSION:2.0
PRODID:-//rssny.org//NONSGML kigkonsult.se iCalcreator 2.30.10//
CALSCALE:GREGORIAN
METHOD:PUBLISH
UID:970539f9-10bb-4342-bf3a-369187cb91a6
X-WR-CALDESC:This is a meeting for people already in the group. If you are 
 interested in joining call 718.884.5900 or email info@rssny.org.
X-WR-RELCALID:8955619539b20a4069d70deb971fcf56
X-WR-TIMEZONE:America/New_York
BEGIN:VTIMEZONE
TZID:America/New_York
BEGIN:STANDARD
TZNAME:EST
DTSTART:20221106T020000
TZOFFSETFROM:-0400
TZOFFSETTO:-0500
RDATE:20231105T020000
RDATE:20241103T020000
END:STANDARD
BEGIN:DAYLIGHT
TZNAME:EDT
DTSTART:20230312T020000
TZOFFSETFROM:-0500
TZOFFSETTO:-0400
RDATE:20240310T020000
END:DAYLIGHT
END:VTIMEZONE
BEGIN:VEVENT
UID:3d12a703-a422-4f9a-92d4-18203fae1762
DTSTAMP:20260425T175800Z
DESCRIPTION:This is a meeting for people already in the group. If you are i
 nterested in joining call 718.884.5900 or email info@rssny.org.
DTSTART;TZID=America/New_York:20230817T133000
DTEND;TZID=America/New_York:20230817T143000
LOCATION:
SUMMARY:Grief Support Group with Susan (Hybrid)
END:VEVENT
END:VCALENDAR
