BEGIN:VCALENDAR
VERSION:2.0
PRODID:-//rssny.org//NONSGML kigkonsult.se iCalcreator 2.30.10//
CALSCALE:GREGORIAN
METHOD:PUBLISH
UID:3a8f8fac-4e06-4bb8-ad62-a60ccfbf8762
X-WR-CALDESC:Open to any skill level.
X-WR-RELCALID:266556e62d0818ced74b99953c9b6f37
X-WR-TIMEZONE:America/New_York
BEGIN:VTIMEZONE
TZID:America/New_York
BEGIN:STANDARD
TZNAME:EST
DTSTART:20221106T020000
TZOFFSETFROM:-0400
TZOFFSETTO:-0500
RDATE:20231105T020000
RDATE:20241103T020000
END:STANDARD
BEGIN:DAYLIGHT
TZNAME:EDT
DTSTART:20230312T020000
TZOFFSETFROM:-0500
TZOFFSETTO:-0400
RDATE:20240310T020000
END:DAYLIGHT
END:VTIMEZONE
BEGIN:VEVENT
UID:7b71f6f7-c610-4241-8fcb-6abfd2ba6102
DTSTAMP:20260425T175857Z
DESCRIPTION:Open to any skill level.
DTSTART;TZID=America/New_York:20230816T130000
DTEND;TZID=America/New_York:20230816T150000
LOCATION:
SUMMARY:IN PERSON Mahjongg
END:VEVENT
END:VCALENDAR
