BEGIN:VCALENDAR
VERSION:2.0
PRODID:-//rssny.org//NONSGML kigkonsult.se iCalcreator 2.30.10//
CALSCALE:GREGORIAN
METHOD:PUBLISH
UID:13150eb8-10f0-4680-a3e5-dffc9a860f63
X-WR-CALDESC:
X-WR-RELCALID:4c7779519d98e3487c7c76cdf64e0ed1
X-WR-TIMEZONE:America/New_York
BEGIN:VTIMEZONE
TZID:America/New_York
BEGIN:STANDARD
TZNAME:EST
DTSTART:20221106T020000
TZOFFSETFROM:-0400
TZOFFSETTO:-0500
RDATE:20231105T020000
RDATE:20241103T020000
END:STANDARD
BEGIN:DAYLIGHT
TZNAME:EDT
DTSTART:20230312T020000
TZOFFSETFROM:-0500
TZOFFSETTO:-0400
RDATE:20240310T020000
END:DAYLIGHT
END:VTIMEZONE
BEGIN:VEVENT
UID:9cf0ff20-7ae9-451c-86db-0d73755e45cc
DTSTAMP:20260425T175641Z
DESCRIPTION:
DTSTART;TZID=America/New_York:20230810T110000
DTEND;TZID=America/New_York:20230810T120000
LOCATION:https://rssny.org/class-forms/technology-classes.html
SUMMARY:Tech: Virtual Tour Explore Museums and Art Galleries
END:VEVENT
END:VCALENDAR
