BEGIN:VCALENDAR
VERSION:2.0
PRODID:-//rssny.org//NONSGML kigkonsult.se iCalcreator 2.30.10//
CALSCALE:GREGORIAN
METHOD:PUBLISH
UID:7ff49e57-8538-4d91-85a2-e01ab096568a
X-WR-CALDESC:
X-WR-RELCALID:3d22d99063da8ad4efe255f82c5b4993
X-WR-TIMEZONE:America/New_York
BEGIN:VTIMEZONE
TZID:America/New_York
BEGIN:STANDARD
TZNAME:EST
DTSTART:20221106T020000
TZOFFSETFROM:-0400
TZOFFSETTO:-0500
RDATE:20231105T020000
RDATE:20241103T020000
END:STANDARD
BEGIN:DAYLIGHT
TZNAME:EDT
DTSTART:20230312T020000
TZOFFSETFROM:-0500
TZOFFSETTO:-0400
RDATE:20240310T020000
END:DAYLIGHT
END:VTIMEZONE
BEGIN:VEVENT
UID:59c45e23-d4c0-4204-9854-938aa264e97a
DTSTAMP:20260425T180255Z
DESCRIPTION:
DTSTART;TZID=America/New_York:20230810T130000
DTEND;TZID=America/New_York:20230810T140000
LOCATION:No Registration Required
SUMMARY:NO CLASS TODAY! IN PERSON: Crafting with Recyclables with Susan Guz
 man
END:VEVENT
END:VCALENDAR
