BEGIN:VCALENDAR
VERSION:2.0
PRODID:-//rssny.org//NONSGML kigkonsult.se iCalcreator 2.30.10//
CALSCALE:GREGORIAN
METHOD:PUBLISH
UID:b1450db2-f5f1-459c-bb0a-c571ba82aa9a
X-WR-CALDESC:Calling all beginners - Learn to play the ancient game of mahj
 ong. Have fun and enjoy the company of others.
X-WR-RELCALID:d651f22a838409951186d93ffa53d19d
X-WR-TIMEZONE:America/New_York
BEGIN:VTIMEZONE
TZID:America/New_York
BEGIN:STANDARD
TZNAME:EST
DTSTART:20221106T020000
TZOFFSETFROM:-0400
TZOFFSETTO:-0500
RDATE:20231105T020000
RDATE:20241103T020000
END:STANDARD
BEGIN:DAYLIGHT
TZNAME:EDT
DTSTART:20230312T020000
TZOFFSETFROM:-0500
TZOFFSETTO:-0400
RDATE:20240310T020000
END:DAYLIGHT
END:VTIMEZONE
BEGIN:VEVENT
UID:51e14c3f-f316-4ca4-93e7-6125c717e08b
DTSTAMP:20260425T180043Z
DESCRIPTION:Calling all beginners - Learn to play the ancient game of mahjo
 ng. Have fun and enjoy the company of others.
DTSTART;TZID=America/New_York:20230809T130000
DTEND;TZID=America/New_York:20230809T140000
LOCATION:
SUMMARY:Learn Mahjong with Ariana (In Center)
END:VEVENT
END:VCALENDAR
