BEGIN:VCALENDAR
VERSION:2.0
PRODID:-//rssny.org//NONSGML kigkonsult.se iCalcreator 2.30.10//
CALSCALE:GREGORIAN
METHOD:PUBLISH
UID:999c09f7-a4f6-4d2d-ba9f-f5dcaa3c7322
X-WR-CALDESC:Open to any skill level.
X-WR-RELCALID:ea7ec4f077d0714a29da1327154904d3
X-WR-TIMEZONE:America/New_York
BEGIN:VTIMEZONE
TZID:America/New_York
BEGIN:STANDARD
TZNAME:EST
DTSTART:20221106T020000
TZOFFSETFROM:-0400
TZOFFSETTO:-0500
RDATE:20231105T020000
RDATE:20241103T020000
END:STANDARD
BEGIN:DAYLIGHT
TZNAME:EDT
DTSTART:20230312T020000
TZOFFSETFROM:-0500
TZOFFSETTO:-0400
RDATE:20240310T020000
END:DAYLIGHT
END:VTIMEZONE
BEGIN:VEVENT
UID:94b1e6a0-2931-434c-823e-c9bdee39a24c
DTSTAMP:20260425T175857Z
DESCRIPTION:Open to any skill level.
DTSTART;TZID=America/New_York:20230807T130000
DTEND;TZID=America/New_York:20230807T150000
LOCATION:
SUMMARY:IN PERSON Mahjongg
END:VEVENT
END:VCALENDAR
