BEGIN:VCALENDAR
VERSION:2.0
PRODID:-//rssny.org//NONSGML kigkonsult.se iCalcreator 2.30.10//
CALSCALE:GREGORIAN
METHOD:PUBLISH
UID:aa30c165-a1ec-49ae-b6f8-d9fa3ef09e1a
X-WR-CALDESC:Call 718.884.5900 if you are interested in joining.
X-WR-RELCALID:0f3c1c6f4e5bd757bd4015ba3a5c4270
X-WR-TIMEZONE:America/New_York
BEGIN:VTIMEZONE
TZID:America/New_York
BEGIN:STANDARD
TZNAME:EST
DTSTART:20221106T020000
TZOFFSETFROM:-0400
TZOFFSETTO:-0500
RDATE:20231105T020000
RDATE:20241103T020000
END:STANDARD
BEGIN:DAYLIGHT
TZNAME:EDT
DTSTART:20230312T020000
TZOFFSETFROM:-0500
TZOFFSETTO:-0400
RDATE:20240310T020000
END:DAYLIGHT
END:VTIMEZONE
BEGIN:VEVENT
UID:70b8f956-6a00-4474-b7f9-1479ae062c60
DTSTAMP:20260425T175805Z
DESCRIPTION:Call 718.884.5900 if you are interested in joining.
DTSTART;TZID=America/New_York:20230807T100000
DTEND;TZID=America/New_York:20230807T110000
LOCATION:
SUMMARY:IN PERSON: Canasta
END:VEVENT
END:VCALENDAR
