BEGIN:VCALENDAR
VERSION:2.0
PRODID:-//rssny.org//NONSGML kigkonsult.se iCalcreator 2.30.10//
CALSCALE:GREGORIAN
METHOD:PUBLISH
UID:0d7113d2-3246-45d7-96c9-8a152d12f948
X-WR-CALDESC:
X-WR-RELCALID:6b6818b0641b40596c3b29d97c7a574e
X-WR-TIMEZONE:America/New_York
BEGIN:VTIMEZONE
TZID:America/New_York
BEGIN:STANDARD
TZNAME:EST
DTSTART:20221106T020000
TZOFFSETFROM:-0400
TZOFFSETTO:-0500
RDATE:20231105T020000
RDATE:20241103T020000
END:STANDARD
BEGIN:DAYLIGHT
TZNAME:EDT
DTSTART:20230312T020000
TZOFFSETFROM:-0500
TZOFFSETTO:-0400
RDATE:20240310T020000
END:DAYLIGHT
END:VTIMEZONE
BEGIN:VEVENT
UID:9ca5c89e-ccb5-4984-aea6-996f3c66ae40
DTSTAMP:20260425T180217Z
DESCRIPTION:
DTSTART;TZID=America/New_York:20230803T130000
DTEND;TZID=America/New_York:20230803T140000
LOCATION:No Registration Required
SUMMARY:IN PERSON: Crafting with Recyclables with Susan Guzman
END:VEVENT
END:VCALENDAR
