BEGIN:VCALENDAR
VERSION:2.0
PRODID:-//rssny.org//NONSGML kigkonsult.se iCalcreator 2.30.10//
CALSCALE:GREGORIAN
METHOD:PUBLISH
UID:6faa46d9-ff74-4027-a3d0-54cf2f5ce383
X-WR-CALDESC:Open to any skill level.
X-WR-RELCALID:8d23640c9cecd2fd53e8f523c4688b0a
X-WR-TIMEZONE:America/New_York
BEGIN:VTIMEZONE
TZID:America/New_York
BEGIN:STANDARD
TZNAME:EST
DTSTART:20221106T020000
TZOFFSETFROM:-0400
TZOFFSETTO:-0500
RDATE:20231105T020000
RDATE:20241103T020000
END:STANDARD
BEGIN:DAYLIGHT
TZNAME:EDT
DTSTART:20230312T020000
TZOFFSETFROM:-0500
TZOFFSETTO:-0400
RDATE:20240310T020000
END:DAYLIGHT
END:VTIMEZONE
BEGIN:VEVENT
UID:a447253f-2908-4d15-aada-2d8b25241469
DTSTAMP:20260425T193306Z
DESCRIPTION:Open to any skill level.
DTSTART;TZID=America/New_York:20230731T130000
DTEND;TZID=America/New_York:20230731T150000
LOCATION:
SUMMARY:IN PERSON Mahjongg
END:VEVENT
END:VCALENDAR
