BEGIN:VCALENDAR
VERSION:2.0
PRODID:-//rssny.org//NONSGML kigkonsult.se iCalcreator 2.30.10//
CALSCALE:GREGORIAN
METHOD:PUBLISH
UID:d0b470af-1d3b-45a9-b509-61de33364e79
X-WR-CALDESC:Call 718.884.5900 if you are interested in joining.
X-WR-RELCALID:2830bd67a74560de78161d73c9f0f7e5
X-WR-TIMEZONE:America/New_York
BEGIN:VTIMEZONE
TZID:America/New_York
BEGIN:STANDARD
TZNAME:EST
DTSTART:20221106T020000
TZOFFSETFROM:-0400
TZOFFSETTO:-0500
RDATE:20231105T020000
RDATE:20241103T020000
END:STANDARD
BEGIN:DAYLIGHT
TZNAME:EDT
DTSTART:20230312T020000
TZOFFSETFROM:-0500
TZOFFSETTO:-0400
RDATE:20240310T020000
END:DAYLIGHT
END:VTIMEZONE
BEGIN:VEVENT
UID:ea8c5902-75a7-4dd9-84e6-24536cf64085
DTSTAMP:20260425T193249Z
DESCRIPTION:Call 718.884.5900 if you are interested in joining.
DTSTART;TZID=America/New_York:20230731T100000
DTEND;TZID=America/New_York:20230731T110000
LOCATION:
SUMMARY:IN PERSON: Canasta
END:VEVENT
END:VCALENDAR
