BEGIN:VCALENDAR
VERSION:2.0
PRODID:-//rssny.org//NONSGML kigkonsult.se iCalcreator 2.30.10//
CALSCALE:GREGORIAN
METHOD:PUBLISH
UID:8f1d8570-26bc-47e3-bc17-9a218315f677
X-WR-CALDESC:Have fun with us at our in center carnival as we say goodbye t
 o July and celebrate August.\n\nThere'll be fun food\, games\, relaxation 
 and more.
X-WR-RELCALID:540878760ae4c1b13a58171ef09bba4c
X-WR-TIMEZONE:America/New_York
BEGIN:VTIMEZONE
TZID:America/New_York
BEGIN:STANDARD
TZNAME:EST
DTSTART:20221106T020000
TZOFFSETFROM:-0400
TZOFFSETTO:-0500
RDATE:20231105T020000
RDATE:20241103T020000
END:STANDARD
BEGIN:DAYLIGHT
TZNAME:EDT
DTSTART:20230312T020000
TZOFFSETFROM:-0500
TZOFFSETTO:-0400
RDATE:20240310T020000
END:DAYLIGHT
END:VTIMEZONE
BEGIN:VEVENT
UID:42f7a8e7-3757-4e07-82d2-42407af938e1
DTSTAMP:20260425T193130Z
DESCRIPTION:Have fun with us at our in center carnival as we say goodbye to
  July and celebrate August.\n\nThere'll be fun food\, games\, relaxation a
 nd more.
DTSTART;TZID=America/New_York:20230728T000000
DTEND;TZID=America/New_York:20230728T235900
LOCATION:
SUMMARY:Summer Carnival at RSS (In Center)
END:VEVENT
END:VCALENDAR
