BEGIN:VCALENDAR
VERSION:2.0
PRODID:-//rssny.org//NONSGML kigkonsult.se iCalcreator 2.30.10//
CALSCALE:GREGORIAN
METHOD:PUBLISH
UID:021de148-ecb8-4f86-a84e-58ae1a4d5a2a
X-WR-CALDESC:
X-WR-RELCALID:7508fff592ea63a197e3d1bf7e1f677e
X-WR-TIMEZONE:America/New_York
BEGIN:VTIMEZONE
TZID:America/New_York
BEGIN:STANDARD
TZNAME:EST
DTSTART:20221106T020000
TZOFFSETFROM:-0400
TZOFFSETTO:-0500
RDATE:20231105T020000
RDATE:20241103T020000
END:STANDARD
BEGIN:DAYLIGHT
TZNAME:EDT
DTSTART:20230312T020000
TZOFFSETFROM:-0500
TZOFFSETTO:-0400
RDATE:20240310T020000
END:DAYLIGHT
END:VTIMEZONE
BEGIN:VEVENT
UID:a0cb48ee-4814-4f45-b84c-9b994bc29cdb
DTSTAMP:20260425T193725Z
DESCRIPTION:
DTSTART;TZID=America/New_York:20230727T130000
DTEND;TZID=America/New_York:20230727T140000
LOCATION:No Registration Required
SUMMARY:IN PERSON: Crafting with Recyclables with Susan Guzman
END:VEVENT
END:VCALENDAR
