BEGIN:VCALENDAR
VERSION:2.0
PRODID:-//rssny.org//NONSGML kigkonsult.se iCalcreator 2.30.10//
CALSCALE:GREGORIAN
METHOD:PUBLISH
UID:579ea4c5-1136-46c8-a6ba-363da08bb4ea
X-WR-CALDESC:Open to any skill level.
X-WR-RELCALID:d0618e3708ca7f8b2e1c928675d8b607
X-WR-TIMEZONE:America/New_York
BEGIN:VTIMEZONE
TZID:America/New_York
BEGIN:STANDARD
TZNAME:EST
DTSTART:20221106T020000
TZOFFSETFROM:-0400
TZOFFSETTO:-0500
RDATE:20231105T020000
RDATE:20241103T020000
END:STANDARD
BEGIN:DAYLIGHT
TZNAME:EDT
DTSTART:20230312T020000
TZOFFSETFROM:-0500
TZOFFSETTO:-0400
RDATE:20240310T020000
END:DAYLIGHT
END:VTIMEZONE
BEGIN:VEVENT
UID:b41f418c-4d1e-444a-812f-e18795c4733e
DTSTAMP:20260425T193434Z
DESCRIPTION:Open to any skill level.
DTSTART;TZID=America/New_York:20230726T130000
DTEND;TZID=America/New_York:20230726T150000
LOCATION:
SUMMARY:IN PERSON Mahjongg
END:VEVENT
END:VCALENDAR
