BEGIN:VCALENDAR
VERSION:2.0
PRODID:-//rssny.org//NONSGML kigkonsult.se iCalcreator 2.30.10//
CALSCALE:GREGORIAN
METHOD:PUBLISH
UID:a02e8c6a-bc4f-41be-b39f-3ffafed018fa
X-WR-CALDESC:Click here to register - https://rssny.org/class-forms/concert
 s-in-motion.html\n\nSpend an enjoyable hour listening and learning about C
 hinese music with professional musicians from Concerts in Motion.
X-WR-RELCALID:4111959b28bbd5ec3ba6a9bf8c11161a
X-WR-TIMEZONE:America/New_York
BEGIN:VTIMEZONE
TZID:America/New_York
BEGIN:STANDARD
TZNAME:EST
DTSTART:20221106T020000
TZOFFSETFROM:-0400
TZOFFSETTO:-0500
RDATE:20231105T020000
RDATE:20241103T020000
END:STANDARD
BEGIN:DAYLIGHT
TZNAME:EDT
DTSTART:20230312T020000
TZOFFSETFROM:-0500
TZOFFSETTO:-0400
RDATE:20240310T020000
END:DAYLIGHT
END:VTIMEZONE
BEGIN:VEVENT
UID:6ba5d3b8-d11b-4dee-80a6-ffd6f8e38f0a
DTSTAMP:20260425T193444Z
DESCRIPTION:Click here to register - https://rssny.org/class-forms/concerts
 -in-motion.html\n\nSpend an enjoyable hour listening and learning about Ch
 inese music with professional musicians from Concerts in Motion.
DTSTART;TZID=America/New_York:20230726T130000
DTEND;TZID=America/New_York:20230726T140000
LOCATION:https://rssny.org/class-forms/concerts-in-motion.html
SUMMARY:Concerts in Motion: Chinese
END:VEVENT
END:VCALENDAR
