BEGIN:VCALENDAR
VERSION:2.0
PRODID:-//rssny.org//NONSGML kigkonsult.se iCalcreator 2.30.10//
CALSCALE:GREGORIAN
METHOD:PUBLISH
UID:e400870b-ba22-4106-9fcb-e310c78dc6d6
X-WR-CALDESC:
X-WR-RELCALID:8a4d243ff846e2ebbc8c1b586aa91bfc
X-WR-TIMEZONE:America/New_York
BEGIN:VTIMEZONE
TZID:America/New_York
BEGIN:STANDARD
TZNAME:EST
DTSTART:20221106T020000
TZOFFSETFROM:-0400
TZOFFSETTO:-0500
RDATE:20231105T020000
RDATE:20241103T020000
END:STANDARD
BEGIN:DAYLIGHT
TZNAME:EDT
DTSTART:20230312T020000
TZOFFSETFROM:-0500
TZOFFSETTO:-0400
RDATE:20240310T020000
END:DAYLIGHT
END:VTIMEZONE
BEGIN:VEVENT
UID:8d7550a8-d742-434c-bf9f-bddd3ef03381
DTSTAMP:20260425T193129Z
DESCRIPTION:
DTSTART;TZID=America/New_York:20230725T120000
DTEND;TZID=America/New_York:20230725T130000
LOCATION:
SUMMARY:Lunch (In Center)
END:VEVENT
END:VCALENDAR
