BEGIN:VCALENDAR
VERSION:2.0
PRODID:-//rssny.org//NONSGML kigkonsult.se iCalcreator 2.30.10//
CALSCALE:GREGORIAN
METHOD:PUBLISH
UID:96ceebaa-7609-4012-8ee1-51c6550d8ef4
X-WR-CALDESC:Open to any skill level.
X-WR-RELCALID:b70c4b9fea2bb8f3791a1f35bcbc886f
X-WR-TIMEZONE:America/New_York
BEGIN:VTIMEZONE
TZID:America/New_York
BEGIN:STANDARD
TZNAME:EST
DTSTART:20221106T020000
TZOFFSETFROM:-0400
TZOFFSETTO:-0500
RDATE:20231105T020000
RDATE:20241103T020000
END:STANDARD
BEGIN:DAYLIGHT
TZNAME:EDT
DTSTART:20230312T020000
TZOFFSETFROM:-0500
TZOFFSETTO:-0400
RDATE:20240310T020000
END:DAYLIGHT
END:VTIMEZONE
BEGIN:VEVENT
UID:03453ec2-8ed6-4938-aa3a-ca1af1dcb274
DTSTAMP:20260425T193306Z
DESCRIPTION:Open to any skill level.
DTSTART;TZID=America/New_York:20230724T130000
DTEND;TZID=America/New_York:20230724T150000
LOCATION:
SUMMARY:IN PERSON Mahjongg
END:VEVENT
END:VCALENDAR
