BEGIN:VCALENDAR
VERSION:2.0
PRODID:-//rssny.org//NONSGML kigkonsult.se iCalcreator 2.30.10//
CALSCALE:GREGORIAN
METHOD:PUBLISH
UID:28cfdf37-ad93-43e7-b3e6-175f7386b53f
X-WR-CALDESC:ACBL-accredited duplicate game (participants can earn Masterpo
 ints and the director (me) is ACBL-certified. Any level skill level is wel
 come.\n\nIf you are interested in joining send an email to info@rssny.org 
 or call 718.884.5900
X-WR-RELCALID:64b3b190e9a7712863842e0546d0ca9e
X-WR-TIMEZONE:America/New_York
BEGIN:VTIMEZONE
TZID:America/New_York
BEGIN:STANDARD
TZNAME:EST
DTSTART:20221106T020000
TZOFFSETFROM:-0400
TZOFFSETTO:-0500
RDATE:20231105T020000
RDATE:20241103T020000
END:STANDARD
BEGIN:DAYLIGHT
TZNAME:EDT
DTSTART:20230312T020000
TZOFFSETFROM:-0500
TZOFFSETTO:-0400
RDATE:20240310T020000
END:DAYLIGHT
END:VTIMEZONE
BEGIN:VEVENT
UID:94176d44-5ffa-4214-aadf-7d581265d763
DTSTAMP:20260425T193444Z
DESCRIPTION:ACBL-accredited duplicate game (participants can earn Masterpoi
 nts and the director (me) is ACBL-certified. Any level skill level is welc
 ome.\n\nIf you are interested in joining send an email to info@rssny.org o
 r call 718.884.5900
DTSTART;TZID=America/New_York:20230724T124500
DTEND;TZID=America/New_York:20230724T143000
LOCATION:
SUMMARY:On-Site: Duplicate Bridge with Rich (Invitation Only)
END:VEVENT
END:VCALENDAR
