BEGIN:VCALENDAR
VERSION:2.0
PRODID:-//rssny.org//NONSGML kigkonsult.se iCalcreator 2.30.10//
CALSCALE:GREGORIAN
METHOD:PUBLISH
UID:c1e12b22-2f34-4cf2-be71-ac13592b6688
X-WR-CALDESC:This class is online. \nLevel: Beginner\n\nIn this session\, y
 ou will learn how to stay connected with friends\, family\, and travel com
 panions during trips. You will also learn about international roaming\, lo
 cal SIM cards\, and Wi-Fi networks to save data and money on your smartpho
 ne. \n\nThe session is led by Tabitha Rosa\, the RSS Tech Specialist and V
 irtual Programs Coordinator.
X-WR-RELCALID:1fd6f61fc35f7abc2c19695c8a6cc81a
X-WR-TIMEZONE:America/New_York
BEGIN:VTIMEZONE
TZID:America/New_York
BEGIN:STANDARD
TZNAME:EST
DTSTART:20221106T020000
TZOFFSETFROM:-0400
TZOFFSETTO:-0500
RDATE:20231105T020000
RDATE:20241103T020000
END:STANDARD
BEGIN:DAYLIGHT
TZNAME:EDT
DTSTART:20230312T020000
TZOFFSETFROM:-0500
TZOFFSETTO:-0400
RDATE:20240310T020000
END:DAYLIGHT
END:VTIMEZONE
BEGIN:VEVENT
UID:a2ab9f24-8154-40c5-b989-af244f0568d8
DTSTAMP:20260425T193121Z
DESCRIPTION:This class is online. \nLevel: Beginner\n\nIn this session\, yo
 u will learn how to stay connected with friends\, family\, and travel comp
 anions during trips. You will also learn about international roaming\, loc
 al SIM cards\, and Wi-Fi networks to save data and money on your smartphon
 e. \n\nThe session is led by Tabitha Rosa\, the RSS Tech Specialist and Vi
 rtual Programs Coordinator.
DTSTART;TZID=America/New_York:20230720T110000
DTEND;TZID=America/New_York:20230720T120000
LOCATION:https://rssny.org/class-forms/technology-classes.html
SUMMARY:Tech: Preparing your Smartphone for Travel
END:VEVENT
END:VCALENDAR
