BEGIN:VCALENDAR
VERSION:2.0
PRODID:-//rssny.org//NONSGML kigkonsult.se iCalcreator 2.30.10//
CALSCALE:GREGORIAN
METHOD:PUBLISH
UID:b468555d-6fa4-4bf0-bda5-b592e4275ad3
X-WR-CALDESC:Movie: Breakthrough
X-WR-RELCALID:976d4d3f717ebd4f63f89a3c7325ca65
X-WR-TIMEZONE:America/New_York
BEGIN:VTIMEZONE
TZID:America/New_York
BEGIN:STANDARD
TZNAME:EST
DTSTART:20221106T020000
TZOFFSETFROM:-0400
TZOFFSETTO:-0500
RDATE:20231105T020000
RDATE:20241103T020000
END:STANDARD
BEGIN:DAYLIGHT
TZNAME:EDT
DTSTART:20230312T020000
TZOFFSETFROM:-0500
TZOFFSETTO:-0400
RDATE:20240310T020000
END:DAYLIGHT
END:VTIMEZONE
BEGIN:VEVENT
UID:8caff0f5-f3d1-4f13-9853-3d96a173450a
DTSTAMP:20260425T193250Z
DESCRIPTION:Movie: Breakthrough
DTSTART;TZID=America/New_York:20230719T140000
DTEND;TZID=America/New_York:20230719T160000
LOCATION:
SUMMARY:Movies (In Center)
END:VEVENT
END:VCALENDAR
