BEGIN:VCALENDAR
VERSION:2.0
PRODID:-//rssny.org//NONSGML kigkonsult.se iCalcreator 2.30.10//
CALSCALE:GREGORIAN
METHOD:PUBLISH
UID:11f4aa11-defb-4b1e-b664-06860ea31fb3
X-WR-CALDESC:Click here to register - https://rssny.org/class-forms/concert
 s-in-motion.html\n\nSpend an enjoyable hour listening and learning about C
 lassical music with professional musicians from Concerts in Motion.
X-WR-RELCALID:90f87a4859c54532f38fddafb1ff5151
X-WR-TIMEZONE:America/New_York
BEGIN:VTIMEZONE
TZID:America/New_York
BEGIN:STANDARD
TZNAME:EST
DTSTART:20221106T020000
TZOFFSETFROM:-0400
TZOFFSETTO:-0500
RDATE:20231105T020000
RDATE:20241103T020000
END:STANDARD
BEGIN:DAYLIGHT
TZNAME:EDT
DTSTART:20230312T020000
TZOFFSETFROM:-0500
TZOFFSETTO:-0400
RDATE:20240310T020000
END:DAYLIGHT
END:VTIMEZONE
BEGIN:VEVENT
UID:f56dd57d-aaca-433a-aa62-064ec6313d69
DTSTAMP:20260425T193602Z
DESCRIPTION:Click here to register - https://rssny.org/class-forms/concerts
 -in-motion.html\n\nSpend an enjoyable hour listening and learning about Cl
 assical music with professional musicians from Concerts in Motion.
DTSTART;TZID=America/New_York:20230717T120000
DTEND;TZID=America/New_York:20230717T130000
LOCATION:https://rssny.org/class-forms/concerts-in-motion.html
SUMMARY:Concerts in Motion: Classical (ONLINE - THIS IS NOT AN RSS CLASS)
END:VEVENT
END:VCALENDAR
