BEGIN:VCALENDAR
VERSION:2.0
PRODID:-//rssny.org//NONSGML kigkonsult.se iCalcreator 2.30.10//
CALSCALE:GREGORIAN
METHOD:PUBLISH
UID:a43d3d50-9d2c-4287-b75c-f7b9dd607bbe
X-WR-CALDESC:Garden in the RSS Terrace. Enjoy the fresh air. Get your hands
  dirty planting herbs and vegetables\, and help us maintain a beautiful na
 tive pollinator garden to help save the planet one garden at a time!
X-WR-RELCALID:4e597b81257dfd35546e3ab35a5eec60
X-WR-TIMEZONE:America/New_York
BEGIN:VTIMEZONE
TZID:America/New_York
BEGIN:STANDARD
TZNAME:EST
DTSTART:20221106T020000
TZOFFSETFROM:-0400
TZOFFSETTO:-0500
RDATE:20231105T020000
RDATE:20241103T020000
END:STANDARD
BEGIN:DAYLIGHT
TZNAME:EDT
DTSTART:20230312T020000
TZOFFSETFROM:-0500
TZOFFSETTO:-0400
RDATE:20240310T020000
END:DAYLIGHT
END:VTIMEZONE
BEGIN:VEVENT
UID:a025abcb-7ec4-4d0e-878f-7b780ea2144c
DTSTAMP:20260425T193726Z
DESCRIPTION:Garden in the RSS Terrace. Enjoy the fresh air. Get your hands 
 dirty planting herbs and vegetables\, and help us maintain a beautiful nat
 ive pollinator garden to help save the planet one garden at a time!
DTSTART;TZID=America/New_York:20230714T140000
DTEND;TZID=America/New_York:20230714T150000
LOCATION:
SUMMARY:Gardening on the RSS Terrace (In House)
END:VEVENT
END:VCALENDAR
