BEGIN:VCALENDAR
VERSION:2.0
PRODID:-//rssny.org//NONSGML kigkonsult.se iCalcreator 2.30.10//
CALSCALE:GREGORIAN
METHOD:PUBLISH
UID:6eca9939-46a6-4328-8ae2-96eb9d27466a
X-WR-CALDESC:Register here - https://rssny.org/class-forms/concerts-in-moti
 on.html\n\nListen to wonderful Motown music led by professional musicians.
  Great way to head into the weekend!
X-WR-RELCALID:67a214202605104d1affee7129481dbf
X-WR-TIMEZONE:America/New_York
BEGIN:VTIMEZONE
TZID:America/New_York
BEGIN:STANDARD
TZNAME:EST
DTSTART:20221106T020000
TZOFFSETFROM:-0400
TZOFFSETTO:-0500
RDATE:20231105T020000
RDATE:20241103T020000
END:STANDARD
BEGIN:DAYLIGHT
TZNAME:EDT
DTSTART:20230312T020000
TZOFFSETFROM:-0500
TZOFFSETTO:-0400
RDATE:20240310T020000
END:DAYLIGHT
END:VTIMEZONE
BEGIN:VEVENT
UID:2e367e57-99b0-4bbe-853c-be132c6ac119
DTSTAMP:20260425T193730Z
DESCRIPTION:Register here - https://rssny.org/class-forms/concerts-in-motio
 n.html\n\nListen to wonderful Motown music led by professional musicians. 
 Great way to head into the weekend!
DTSTART;TZID=America/New_York:20230714T140000
DTEND;TZID=America/New_York:20230714T150000
LOCATION:https://rssny.org/class-forms/concerts-in-motion.html
SUMMARY:Concerts in Motion: Motown (ONLINE - This is not an RSS event)
END:VEVENT
END:VCALENDAR
