BEGIN:VCALENDAR
VERSION:2.0
PRODID:-//rssny.org//NONSGML kigkonsult.se iCalcreator 2.30.10//
CALSCALE:GREGORIAN
METHOD:PUBLISH
UID:ef58b6c4-2c0d-4121-96f4-3bc7c4739092
X-WR-CALDESC:
X-WR-RELCALID:f39ca4ed8ba80266999a7f3c1545e137
X-WR-TIMEZONE:America/New_York
BEGIN:VTIMEZONE
TZID:America/New_York
BEGIN:STANDARD
TZNAME:EST
DTSTART:20221106T020000
TZOFFSETFROM:-0400
TZOFFSETTO:-0500
RDATE:20231105T020000
RDATE:20241103T020000
END:STANDARD
BEGIN:DAYLIGHT
TZNAME:EDT
DTSTART:20230312T020000
TZOFFSETFROM:-0500
TZOFFSETTO:-0400
RDATE:20240310T020000
END:DAYLIGHT
END:VTIMEZONE
BEGIN:VEVENT
UID:a33ec302-fa55-4777-a7e8-b41c25cb4965
DTSTAMP:20260425T192947Z
DESCRIPTION:
DTSTART;TZID=America/New_York:20230713T110000
DTEND;TZID=America/New_York:20230713T120000
LOCATION:https://rssny.org/class-forms/technology-classes.html
SUMMARY:CANCELLED FOR TODAY!  Tech 101 with Tabitha
END:VEVENT
END:VCALENDAR
