BEGIN:VCALENDAR
VERSION:2.0
PRODID:-//rssny.org//NONSGML kigkonsult.se iCalcreator 2.30.10//
CALSCALE:GREGORIAN
METHOD:PUBLISH
UID:cd4b5124-14b4-42da-9033-7793ddcdef36
X-WR-CALDESC:
X-WR-RELCALID:eb1d33f833e1f4b797eb38370fee8781
X-WR-TIMEZONE:America/New_York
BEGIN:VTIMEZONE
TZID:America/New_York
BEGIN:STANDARD
TZNAME:EST
DTSTART:20221106T020000
TZOFFSETFROM:-0400
TZOFFSETTO:-0500
RDATE:20231105T020000
RDATE:20241103T020000
END:STANDARD
BEGIN:DAYLIGHT
TZNAME:EDT
DTSTART:20230312T020000
TZOFFSETFROM:-0500
TZOFFSETTO:-0400
RDATE:20240310T020000
END:DAYLIGHT
END:VTIMEZONE
BEGIN:VEVENT
UID:6deaca76-6a49-4839-8cf2-903b47d11ec2
DTSTAMP:20260425T193306Z
DESCRIPTION:
DTSTART;TZID=America/New_York:20230713T140000
DTEND;TZID=America/New_York:20230713T150000
LOCATION:https://rssny.org/tai-chi-with-bill.html
SUMMARY:Tai Chi with Bill (ONLINE)
END:VEVENT
END:VCALENDAR
