BEGIN:VCALENDAR
VERSION:2.0
PRODID:-//rssny.org//NONSGML kigkonsult.se iCalcreator 2.30.10//
CALSCALE:GREGORIAN
METHOD:PUBLISH
UID:8062b132-78a2-4c33-859b-60b770498e88
X-WR-CALDESC:Movie: Champions
X-WR-RELCALID:af24fac13057293d35073bfade7ba516
X-WR-TIMEZONE:America/New_York
BEGIN:VTIMEZONE
TZID:America/New_York
BEGIN:STANDARD
TZNAME:EST
DTSTART:20221106T020000
TZOFFSETFROM:-0400
TZOFFSETTO:-0500
RDATE:20231105T020000
RDATE:20241103T020000
END:STANDARD
BEGIN:DAYLIGHT
TZNAME:EDT
DTSTART:20230312T020000
TZOFFSETFROM:-0500
TZOFFSETTO:-0400
RDATE:20240310T020000
END:DAYLIGHT
END:VTIMEZONE
BEGIN:VEVENT
UID:437814bc-287b-41a6-83d9-b674932ef0ee
DTSTAMP:20260425T193608Z
DESCRIPTION:Movie: Champions
DTSTART;TZID=America/New_York:20230712T130000
DTEND;TZID=America/New_York:20230712T150000
LOCATION:
SUMMARY:Movies (In Center)
END:VEVENT
END:VCALENDAR
