BEGIN:VCALENDAR
VERSION:2.0
PRODID:-//rssny.org//NONSGML kigkonsult.se iCalcreator 2.30.10//
CALSCALE:GREGORIAN
METHOD:PUBLISH
UID:8ff087bc-2522-4c50-b0b1-4817e3b590bc
X-WR-CALDESC:Calling all beginners - Learn to play the ancient game of mahj
 ong. Have fun and enjoy the company of others.
X-WR-RELCALID:7462f4e956afb8517873f54fa57302fb
X-WR-TIMEZONE:America/New_York
BEGIN:VTIMEZONE
TZID:America/New_York
BEGIN:STANDARD
TZNAME:EST
DTSTART:20221106T020000
TZOFFSETFROM:-0400
TZOFFSETTO:-0500
RDATE:20231105T020000
RDATE:20241103T020000
END:STANDARD
BEGIN:DAYLIGHT
TZNAME:EDT
DTSTART:20230312T020000
TZOFFSETFROM:-0500
TZOFFSETTO:-0400
RDATE:20240310T020000
END:DAYLIGHT
END:VTIMEZONE
BEGIN:VEVENT
UID:7d9bb5e7-579f-447b-8593-66c29ab7091f
DTSTAMP:20260425T193557Z
DESCRIPTION:Calling all beginners - Learn to play the ancient game of mahjo
 ng. Have fun and enjoy the company of others.
DTSTART;TZID=America/New_York:20230712T130000
DTEND;TZID=America/New_York:20230712T140000
LOCATION:
SUMMARY:Learn Mahjong with Ariana (In Center)
END:VEVENT
END:VCALENDAR
